BEGIN:VCALENDAR
VERSION:2.0
PRODID:Events Booking
BEGIN:VEVENT
UID:69e712a78aff8
SUMMARY:Netzwerktreffen Februar 2024
DESCRIPTION:Wir freuen uns\, dass wir auch im Jahr 2024 wieder mit unseren 
 Netzwerktreffen für persönliche Treffen\, das Kennenlernen toller Locati
 ons und begeisternde Abende sorgen können...
 
LOCATION:Knesebeckstraße\, Berlin\, 10623\, Deutschland
DTSTART:20240227T180000Z
DTEND:20240227T210000Z
DTSTAMP:20240115T060912Z
ORGANIZER;CN=Berliner Netzwerk:MAILTO:alexanderdk@berliner-netzwerk.de
GEO:52.506858;13.322814
X-APPLE-STRUCTURED-LOCATION;VALUE=URI;X-ADDRESS=Knesebeckstraße\, Berlin\,
  10623\, Deutschland;X-APPLE-RADIUS=72;X-TITLE=Ristorante Aida:52.506858;1
 3.322814
END:VEVENT
END:VCALENDAR