BEGIN:VCALENDAR
VERSION:2.0
PRODID:Events Booking
BEGIN:VEVENT
UID:69e8992d21dcf
SUMMARY:3K Spree Party 23
DESCRIPTION:Wir starten um 19:00 Uhr an der Anlegestelle am Weidendamm zur 
 *3K Spree Party.*  
LOCATION:Am Weidendamm\, Berlin\, 10117\, Deutschland
DTSTART:20230811T170000Z
DTEND:20230811T215500Z
DTSTAMP:20230721T105936Z
ORGANIZER;CN=Berliner Netzwerk:MAILTO:alexanderdk@berliner-netzwerk.de
GEO:52.521732;13.388982
X-APPLE-STRUCTURED-LOCATION;VALUE=URI;X-ADDRESS=Am Weidendamm\, Berlin\, 10
 117\, Deutschland;X-APPLE-RADIUS=72;X-TITLE=Stern und Kreisschiffahrt GmbH
 \, Anleger Friedrichstraße/Am Weidendamm:52.521732;13.388982
END:VEVENT
END:VCALENDAR